BEGIN:VCALENDAR
VERSION:2.0
PRODID:-//uConnectLabs//NONSGML v1.0//EN
BEGIN:VEVENT
UID:0e33982aae87e47e4545a4458a2bb3b6@uconnectlabs.com
DTSTAMP:20260420T144114Z
DTSTART:20260616T183000Z
DTEND:20260616T193000Z
LOCATION:Virtual
URL:https://premiumdemo.demo.uconnectlabs.com/events/2026/06/16/ef-global-finance-program-info-session-2/
SUMMARY:EF Global Finance Program Info-Session 2
DESCRIPTION:Searching for an early career finance role that global, rotational, and impact-driven?Join our EF Global Finance Program Info Session to discover how you can rotate across finance teams, work closely with business leaders, and build an international career—starting in Cambridge, MA with opportunities abroad.Hear directly from an EF recruiter and a former Finance Associate, now Senior Financial Analyst, Rishi Bhat, during a live Q&amp;A.📌 For 2025–2027 finance graduates with up to 2 years of experienceYour international finance career starts here. Click here to register and visit the GFP website to learn more.
END:VEVENT
END:VCALENDAR