BEGIN:VCALENDAR
VERSION:2.0
PRODID:-//uConnectLabs//NONSGML v1.0//EN
BEGIN:VEVENT
UID:07053265330e0254b24a47a51624b49b@uconnectlabs.com
DTSTAMP:20260420T144112Z
DTSTART:20260610T193000Z
DTEND:20260610T223000Z
LOCATION:Newark, New Jersey, United States
URL:https://premiumdemo.demo.uconnectlabs.com/events/2026/06/10/prudential-x-alpfa-x-naba/
SUMMARY:Prudential x ALPFA x NABA
DESCRIPTION:From Classroom to Career: Launching Your Career with Confidence Join us for an interactive career event with Prudential, ALPFA, and NABA designed to help students explore career paths and build confidence for what’s next. What you’ll experience:Fireside Chat with a Prudential Finance Leader – Gain insight into the leader’s career journey, key experiences, and lessons learned along the way.Panel Discussion: Beyond the Major – Finding Your Path at Prudential/PGIM - Professionals from across the enterprise share how they navigated their careers—often beyond their original major.Talent Ambassador “Day in the Life” Spotlight - Learn what it’s really like to work at Prudential/PGIM through real examples of day‑to‑day roles and responsibilities.Prudential Overview &amp; Internship Application Insights – Understand how the organization operates, our business areas, and tips for navigating the internship application process.Networking Reception - Connect with business professionals, ALPFA and NABA leaders, and fellow students.  
END:VEVENT
END:VCALENDAR