BEGIN:VCALENDAR
VERSION:2.0
PRODID:-//uConnectLabs//NONSGML v1.0//EN
BEGIN:VEVENT
UID:f25a556828c3abd6b50830db9d94f704@uconnectlabs.com
DTSTAMP:20260420T144228Z
DTSTART:20260603T200000Z
DTEND:20260603T210000Z
LOCATION:Virtual
URL:https://premiumdemo.demo.uconnectlabs.com/events/2026/06/03/gm-info-session-and-resume-workshop-for-formula-and-baja-sae-students-june-2026/
SUMMARY:GM Info Session and Resume Workshop for Formula and Baja SAE Students - June 2026
DESCRIPTION:What does a company that is aiming to create products that produce zero emissions, zero crashes and zero congestion look like? Is there a company also aiming to be the most inclusive company in the world, empowering each employee on this mission? You will find all of this and more at General Motors. Join Austin Wooldridge, engineer and SAE Events lead from General Motors as he give you a taste of General Motor's mission, its culture, and an idea of what it is to be a GM employee.
END:VEVENT
END:VCALENDAR