BEGIN:VCALENDAR
VERSION:2.0
PRODID:-//uConnectLabs//NONSGML v1.0//EN
BEGIN:VEVENT
UID:cc0786ed3de12176db54f47598ea3f03@uconnectlabs.com
DTSTAMP:20260420T144218Z
DTSTART:20260519T180000Z
DTEND:20260519T193000Z
LOCATION:Virtual
URL:https://premiumdemo.demo.uconnectlabs.com/events/2026/05/19/marine-interdiction-agent-recruitment-webinar-may-19th/
SUMMARY:Marine Interdiction Agent Recruitment Webinar – May 19th
DESCRIPTION:Air and Marine Operations (AMO), a component of U.S. Customs and Border Protection (CBP), needs you for openings as a Marine Interdiction Agent, providing security for our nation’s borders from those who threaten legitimate trade and travel, safety from harmful substances like fentanyl, and humanitarian aid to those in need.  Learn from an insider’s viewpoint about the challenges and rewards on TUESDAY, MAY 19th from 2 – 3:30 PM ET in a live webinar presentation by AMO Agents. Federal civil service is a great place to build a career in law enforcement – join the call and learn about the qualifications you’ll need to get your career started.  Click on the Apply button on this site to register for the event. Complete the short form and select Air and Marine Operations (Marine Interdiction Agent) from the Positions of Interest dropdown menu. You’ll receive the webinar link approximately two days before the event.  Not interested in law enforcement? There are many other great career opportunities at CBP. Go ahead and register for this webinar and select one of the many other career opportunities so CBP can stay in touch with news of future career events and position openings. 
END:VEVENT
END:VCALENDAR