BEGIN:VCALENDAR
VERSION:2.0
PRODID:-//uConnectLabs//NONSGML v1.0//EN
BEGIN:VEVENT
UID:299fe1267f4900e6371e692303573eae@uconnectlabs.com
DTSTAMP:20260420T144112Z
DTSTART:20260519T230000Z
DTEND:20260520T230000Z
LOCATION:Virtual
URL:https://premiumdemo.demo.uconnectlabs.com/events/2026/05/19/2026-imc-chess-academy/
SUMMARY:2026 IMC Chess Academy
DESCRIPTION:What if your next chess move took you to Chicago to face the world champion?The US Chess Academy is a one-of-a-kind program open to all students across US and Canadian colleges and universities, whether you're a seasoned competitor or just love the game. In partnership with Team Liquid, IMC is bringing together the brightest student chess players in the country for a chance to compete at the highest level and play face-to-face with World Chess Champion Magnus Carlsen.This is more than a chess tournament. It's an opportunity to step inside one of the world's leading trading firms, connect with IMC's traders, researchers and technologists, and experience what it's like to think fast, compete hard, and perform under pressure — skills that define both great chess players and the people who thrive at the world's top trading firms.What You'll Do

Compete at the highest level: Qualify through an online Swiss-format tournament on Chess.com and, if you advance, travel to IMC's Chicago office to compete in the championship finals against the best student players in the country.

Face the greatest: Finalist competitors will take part in a showmatch experience with World Chess Champion Magnus Carlsen, one of the most exceptional competitive opportunities available to any student chess player.

Go behind the scenes at IMC: Tour IMC's Chicago office and get a firsthand look at the environment where some of the world's fastest and most sophisticated trading takes place.

Build your network: Connect directly with IMC traders, researchers, technologists, and recruiters. Whether or not a career in trading is on your radar, this is a rare chance to meet and learn from world-class professionals.
Key Dates
Applications Close: Sunday, May 10, 2026
Eligibility Notifications: Monday, May 11, 2026
Virtual Qualifiers: Tuesday, May 19 or Wednesday, May 20, 2026
Championship at IMC Chicago: Sunday, July 12-Monday, July 13, 2026
Ready to Apply?Applications are open to all enrolled students regardless of chess rating or experience level. Apply by May 10, 2026.For full eligibility requirements and competition rules, please refer to the Terms and Conditions. 
END:VEVENT
END:VCALENDAR