BEGIN:VCALENDAR
VERSION:2.0
PRODID:-//uConnectLabs//NONSGML v1.0//EN
BEGIN:VEVENT
UID:570091537faef6642a01df66a0ccd02f@uconnectlabs.com
DTSTAMP:20260420T144216Z
DTSTART:20260514T220000Z
DTEND:20260515T010000Z
LOCATION:211 2nd Street Northwest, Rochester, Minnesota 55901, United States
URL:https://premiumdemo.demo.uconnectlabs.com/events/2026/05/14/charter-house-nursing-hiring-event-on-site/
SUMMARY:Charter House NURSING Hiring Event | On Site
DESCRIPTION:We’re seeking nursing professionals with a passion for patient care. Whether you’re an experienced senior care professional or a recent graduate, we invite you to explore a dynamic and fulfilling career at Charter House Senior Living Community.Opportunities for entry-level to experienced RNs and LPNs. No BSN required for RN positions.Be part of a small, family community dedicated to providing personalized care while enjoying flexible scheduling.Join us for an onsite hiring event and meet directly with hiring managers.Space is limited. Please RSVP to attend.Register here today!LOCATION: Charter House, Edwards Hall, 211 2nd St NW Rochester, MN 55901
END:VEVENT
END:VCALENDAR