BEGIN:VCALENDAR
VERSION:2.0
PRODID:-//uConnectLabs//NONSGML v1.0//EN
BEGIN:VEVENT
UID:ae3f2930f92539d917e8a61416c08974@uconnectlabs.com
DTSTAMP:20260420T144227Z
DTSTART:20260507T140000Z
DTEND:20260507T210000Z
LOCATION:
URL:https://premiumdemo.demo.uconnectlabs.com/events/2026/05/07/usbp-in-person-recruitment-event-in-houston-tx-may-7/
SUMMARY:USBP In-Person Recruitment Event in Houston, TX – May 7
DESCRIPTION:Click HERE to Register Today!Why choose between a job that enriches you with generous benefits and one that fulfills your desire to make a difference?​As a Border Patrol Agent, every day offers a chance to make an impact as part of a team defined by vigilance, service to country, and integrity. And you’ll be compensated with competitive pay, generous federal benefits, and incentives of up to $60,000 for newly hired agents.​Learn more about our mission to safeguard our homeland and the rewarding opportunities awaiting you at the upcoming, in-person USBP Recruitment Event in Houston, TX, this May 4 – 8.​This is your chance to:​
Meet with recruiters about USBP service, benefits, and hiring incentives up to $60K!​
Get valuable resume and interview tips.​
Complete and submit your application on site.​
To prepare for the event, please set up a USAJOBS account, bring a digital copy of a two-page resume, and bring your DD214 and SF-50 if applicable.​Event Details​:
May 4 – 8​
9 AM – 4 PM CT​
Workforce Solutions​ - 70 Farm to Market 1960 Rd W​, Houston, TX 77090​
Click HERE to Register Today!
END:VEVENT
END:VCALENDAR