BEGIN:VCALENDAR
VERSION:2.0
PRODID:-//uConnectLabs//NONSGML v1.0//EN
BEGIN:VEVENT
UID:d760320abcba503805f4204a4c2226b3@uconnectlabs.com
DTSTAMP:20260420T133853Z
DTSTART:20260504T151500Z
DTEND:20260504T153000Z
LOCATION:Virtual
URL:https://premiumdemo.demo.uconnectlabs.com/events/2026/05/04/circle-logistics-inc-virtual-resume-review-2/
SUMMARY:Circle Logistics, Inc. -  Virtual Resume Review
DESCRIPTION:About the eventThe Virtual Resume Review is a monthly virtual event hosted by the Circle Logistics Pipeline in partnership with our recruiting team. This event is designed to give students and job seekers direct access to experienced recruiters for personalized, one-on-one resume feedback.During each session, participants will meet individually with a Circle Logistics recruiter via Google Meet to receive actionable insights on how to strengthen their resume. We will cover formatting, content, and ways to better position your experience for future career opportunities.Each session is 15 minutes long.Important Details:
Sessions will take place virtually via Google Meet
Please submit your resume by Friday, May 1st at 5:00 PM to be eligible to participate
Spots are limited, so be sure to register early. We look forward to helping you take the next step in your career.
END:VEVENT
END:VCALENDAR