BEGIN:VCALENDAR
VERSION:2.0
PRODID:-//uConnectLabs//NONSGML v1.0//EN
BEGIN:VEVENT
UID:81ea7ab3db817e4df99780f14ede2a3a@uconnectlabs.com
DTSTAMP:20260420T144226Z
DTSTART:20260504T160000Z
DTEND:20260504T163000Z
LOCATION:Virtual
URL:https://premiumdemo.demo.uconnectlabs.com/events/2026/05/04/%e2%9a%a1%ef%b8%8fno-cost-sparks-mentorship-program-for-university-of-colorado-%e2%9a%a1%ef%b8%8f-5/
SUMMARY:⚡️No Cost Sparks Mentorship Program for University of Colorado ⚡️
DESCRIPTION:🚀 Your career doesn't start at graduation. It starts with one conversation. The Sparks Mentorship Program pairs undergrads with industry professionals for a full year of 1-on-1 virtual mentorship — completely free. 🎯 Three Ways to Get Started:1️⃣ APPLY NOW (Recommended) — 🚀 Apply for your mentorship now2️⃣ Need More Details? — 📚 Visit the program overview3️⃣ Questions? 👩‍💻 Attend a live info session        📅 Next Info Sessions: May 4 12:00pm ET (more dates available)        📅 Use the above link to register – this event is not hosted via Handshake 🎯 This is for you if:        🔹 You don't know what you want to do yet — your mentor helps you figure it out        🔹 You have a major but no idea what jobs look like in your field        🔹 You're applying for internships or jobs and need someone who's been through it        🔹 You're first-gen and don't have a professional network        🔹 You're balancing school with work or family and need guidance ⚡ What You Get — 100% Free ($3,000 value):🔹 Dedicated mentor matched to your field and goals — for a full year🔹 Monthly 1-on-1 virtual sessions, flexible around your schedule🔹 Interview prep, career decisions, and real talk with a real professional🔹 AI career tools: The Interviewer™, Career Explorer™, Life Studio™, and more🔹 Skill building: LinkedIn networking, personal finance, leadership🔹 Help finding internships and job opportunities 📢 Hear from Sparks students: View testimonials ⏰ First to apply = first matched. Don't wait. 🚀 Apply now — 5 minutes, zero cost. ℹ️ SetFire Foundation is a NC Nonprofit Corporation and 501(c)(3) – EIN 33-5058150 ℹ️
END:VEVENT
END:VCALENDAR