BEGIN:VCALENDAR
VERSION:2.0
PRODID:-//uConnectLabs//NONSGML v1.0//EN
BEGIN:VEVENT
UID:06a8abec11c423e359abaaea0e4d24d1@uconnectlabs.com
DTSTAMP:20260420T155211Z
DTSTART:20260430T230000Z
DTEND:20260501T000000Z
LOCATION:Virtual
URL:https://premiumdemo.demo.uconnectlabs.com/events/2026/04/30/ihs-virtual-information-session/
SUMMARY:IHS Virtual Information Session
DESCRIPTION:Hello, Learn more about career opportunities with Indian Health Service Sanitation Facilities Construction by joining our virtual information session on April 30th. This session is a great opportunity to learn more about career paths, current openings, and what it's like to work with Indian Health Service. You'll also have the chance to ask questions and connect directly with our staff. Register today! We look forward to connecting with you! 
END:VEVENT
END:VCALENDAR