BEGIN:VCALENDAR
VERSION:2.0
PRODID:-//uConnectLabs//NONSGML v1.0//EN
BEGIN:VEVENT
UID:6f8e65274ef34d670c3aedab2be5926b@uconnectlabs.com
DTSTAMP:20260420T161511Z
DTSTART:20260430T150000Z
DTEND:20260430T220000Z
LOCATION:Virtual
URL:https://premiumdemo.demo.uconnectlabs.com/events/2026/04/30/ibm-dev-day-bob-edition/
SUMMARY:IBM Dev Day: Bob Edition
DESCRIPTION:Dive deep with AI experts at the Free Virtual EventJoin us for a no-cost event featuring AI experts focused on next generation resources for AI builders. IBM Dev Day: Bob Edition is designed to help you build faster with a trusted AI partner.AI agents:Use Bob to accelerate software development by automating complex, time-consuming work, from building new features to modernizing legacy systems and strengthening secure delivery.App modernization:Work with Bob to modernize Java, COBOL, RPG, and mainframe systems by reverse-engineering undocumented code and executing validated upgrades in days instead of months.DevOps:Learn how Bob can help you create production-ready integration agents and MCP servers in minutes, accelerating automation across enterprise workflows.
END:VEVENT
END:VCALENDAR