BEGIN:VCALENDAR
VERSION:2.0
PRODID:-//uConnectLabs//NONSGML v1.0//EN
BEGIN:VEVENT
UID:73844eb4597c61fceff6e96aab64cd0e@uconnectlabs.com
DTSTAMP:20260420T161820Z
DTSTART:20260430T150000Z
DTEND:20260430T180000Z
LOCATION:69 Milk Street, Westborough, Massachusetts 01581, United States
URL:https://premiumdemo.demo.uconnectlabs.com/events/2026/04/30/advocates-agency-hiring-event-4-30-26/
SUMMARY:Advocates Agency Hiring Event 4/30/26
DESCRIPTION:Build a rewarding career helping people thrive! Help empower people facing developmental, mental health, or other life challenges to thrive in their communities. As an Advocates employee, you’ll be supported, cared for, and provided opportunities to grow.📅 Date: Thursday, April 30th⏰ Time: 11:00 AM – 2:00 PM📍 Location: Advocates Training Center – 69 Milk St, Westborough, MA 01581We’re Hiring! Early and mid-career roles, including:Child and Adolescent Clinicians Clinical Supervisors In-Home Therapy Clinicians Jail Diversion Clinicians Outpatient Clinicians School-Based Clinicians Therapeutic Youth Support Workers👉 If you're interested in attending, please RSVP here:https://app.smartsheet.com/b/form/019c8b59ee0e79c694b54c16e8318995
END:VEVENT
END:VCALENDAR