BEGIN:VCALENDAR
VERSION:2.0
PRODID:-//uConnectLabs//NONSGML v1.0//EN
BEGIN:VEVENT
UID:d2175a12ce0cd24d38fee46682f4bb75@uconnectlabs.com
DTSTAMP:20260420T171916Z
DTSTART:20260429T230000Z
DTEND:20260430T000000Z
LOCATION:Virtual
URL:https://premiumdemo.demo.uconnectlabs.com/events/2026/04/29/being-a-disease-detective-in-cdcs-epidemic-intelligence-service-4-29-26/
SUMMARY:Being a Disease Detective in CDC’s Epidemic Intelligence Service (4/29/26)
DESCRIPTION:Join Epidemic Intelligence Service (EIS) Chief, Dr. Eric Pevzner, to learn more about CDC's applied epidemiology training program. Hear directly from current EIS Officers about their public health work, fellowship experience as CDC ‘disease detectives’, and how alumni are applying their skills and experiences in their post-fellowship positions.  Applications are currently open for the EIS Class of 2027 (starting at CDC in Summer 2027). Application and eligibility information can be found on CDC's website. Register in advance to learn more!
END:VEVENT
END:VCALENDAR