BEGIN:VCALENDAR
VERSION:2.0
PRODID:-//uConnectLabs//NONSGML v1.0//EN
BEGIN:VEVENT
UID:7b336095f6b4607468c8badb3c00b4f8@uconnectlabs.com
DTSTAMP:20260420T161707Z
DTSTART:20260428T170000Z
DTEND:20260428T174500Z
LOCATION:Virtual
URL:https://premiumdemo.demo.uconnectlabs.com/events/2026/04/28/graduating-seniors-launch-your-teaching-career-info-session-live-qa/
SUMMARY:Graduating Seniors: Launch Your Teaching Career (Info Session + Live Q&amp;A)
DESCRIPTION:Did you know a New York State Teaching Certification is your passport to teaching in all 50 states? It’s one of the most prestigious and transferable credentials in education in the nation.Now, imagine launching your career by earning that certification and a fully-funded Master’s in Education—all while receiving a competitive full-time salary and benefits. At Classical Charter Schools, we offer exactly that. This is more than a job; it's a comprehensive launchpad for aspiring educators and future school leaders who are passionate about making a difference.If you're seeking a purposeful path after graduation, we invite you to explore this incredible opportunity. Join us for an informational session to discover how you can build a rewarding career that shapes the future.Your journey in education starts here. RSVP now to secure your spot!
END:VEVENT
END:VCALENDAR