BEGIN:VCALENDAR
VERSION:2.0
PRODID:-//uConnectLabs//NONSGML v1.0//EN
BEGIN:VEVENT
UID:73a9cc91c546fbeaf3bb9319858b7c48@uconnectlabs.com
DTSTAMP:20260420T150724Z
DTSTART:20260427T200000Z
DTEND:20260427T210000Z
LOCATION:Virtual
URL:https://premiumdemo.demo.uconnectlabs.com/events/2026/04/27/the-future-of-the-energy-workforce-and-where-you-fit-in%e2%9a%a1/
SUMMARY:The Future of the Energy Workforce—And Where You Fit In⚡
DESCRIPTION:Join Hope Marrow for a forward looking conversation on how the global energy transition is reshaping careers and what that means for you. Drawing on her work as an economist shaping workforce strategy, Hope connects big picture trends in energy, technology, and talent demand to real decisions students are making today.You will gain insight into emerging workforce needs, explore how organizations like Idaho National Laboratory are tackling national challenges, and leave with practical steps to start building your path in the evolving energy landscape. 
END:VEVENT
END:VCALENDAR