BEGIN:VCALENDAR
VERSION:2.0
PRODID:-//uConnectLabs//NONSGML v1.0//EN
BEGIN:VEVENT
UID:ee0975670baf9c1ef19f21a7f3a3615f@uconnectlabs.com
DTSTAMP:20260420T150743Z
DTSTART:20260427T130000Z
DTEND:20260427T210000Z
LOCATION:Virtual
URL:https://premiumdemo.demo.uconnectlabs.com/events/2026/04/27/digital-twins-in-health-care-clinical-ethical-and-legal-perspectives/
SUMMARY:Digital Twins in Health Care: Clinical, Ethical and Legal Perspectives
DESCRIPTION:Hosted by the Data Science Institute, Columbia SPS Bioethics Program, NE Big Data Hub, and the Columbia University Irving Medical Center.Digital Twins in Health Care: Clinical, Ethical and Legal Perspectives Digital Twins have advanced various fields in engineering for decades and are now entering clinical care, posing several critical challenges. A digital twin, built of data from a patient and the environment, aims to mimic the structure and behavior of the physical patient, is dynamically updated with new data, and seeks to make predictions about the patient and inform decisions. But how should such digital entities be regulated, and how do and will they affect clinicians, clinical decisions, and patients?This multi-disciplinary workshop brings together leading experts – data scientists, clinicians, ethicists, legal scholars and others – to explore these complex and growing cutting edge clinical, ethical and legal questions.This event is part of the Frontiers in Data Science and AI initiative at the Data Science Institute, Columbia University.About Registration:

This is a hybrid event. Please select Virtual Registration if you do not plan to attend in-person and are seeking the Zoom link.

Seating for in-person registration is limited. Attendance will be prioritized for faculty, senior researchers (PhD Students, Postdocs), and external guests (alumni, clinicians, and practitioners).

All in-person registrations will be confirmed by the DSI Events team. 
Learn more and register here: https://datascience.columbia.edu/event/digital-twins-in-health-care-clinical-ethical-and-legal-perspectives/
END:VEVENT
END:VCALENDAR