BEGIN:VCALENDAR
VERSION:2.0
PRODID:-//uConnectLabs//NONSGML v1.0//EN
BEGIN:VEVENT
UID:1e76d911c3627309519c2699e126473f@uconnectlabs.com
DTSTAMP:20260420T150458Z
DTSTART:20260425T140000Z
DTEND:20260425T200000Z
LOCATION:1600 Ormsby Station Court, Louisville, Kentucky 40223, United States
URL:https://premiumdemo.demo.uconnectlabs.com/events/2026/04/25/pharmacist-hiring-event/
SUMMARY:Pharmacist Hiring Event
DESCRIPTION:Register for our in-person pharmacist hiring event! Learn how our pharmacists collaborate, meet the people who will champion your growth, and discover the powerful impact you can have on the communities you serve.What makes our hiring events great? Our events offer same‑day conversations, insider insights into our pharmacist experience, and a chance to learn how Kroger Health invests in your growth, well‑being, and long‑term success. ⏱  When: Saturday, April 25th | 10:00 AM - 4:00 PM EST📍 Where: 1600 Ormsby Station Court in Louisville, KY 40223Kroger Health pharmacists receive a wide variety of valuable benefits and perks, such as
Paid state licensure, certification and renewals!
Robust healthcare and 401(k) with company match!
Amazing discounts on groceries, electronics, travel and so much more!
…PLUS, begin your Kroger Health journey with a $20,000 sign-on bonus and up to $25,000 in relocation assistance!
END:VEVENT
END:VCALENDAR