BEGIN:VCALENDAR
VERSION:2.0
PRODID:-//uConnectLabs//NONSGML v1.0//EN
BEGIN:VEVENT
UID:4c00e95ad1b0d65ce515b0c04b3c2b7e@uconnectlabs.com
DTSTAMP:20260420T150539Z
DTSTART:20260424T210000Z
DTEND:20260424T220000Z
LOCATION:Virtual
URL:https://premiumdemo.demo.uconnectlabs.com/events/2026/04/24/how-to-stand-out-submitting-confident-applications-2/
SUMMARY:How to Stand Out: Submitting Confident Applications
DESCRIPTION:Discover how to make your resume shine, sidestep common application mistakes, and apply online with confidence. 
END:VEVENT
END:VCALENDAR