BEGIN:VCALENDAR
VERSION:2.0
PRODID:-//uConnectLabs//NONSGML v1.0//EN
BEGIN:VEVENT
UID:077aad183f4d28fd59a66bc384188e6d@uconnectlabs.com
DTSTAMP:20260420T150727Z
DTSTART:20260423T200000Z
DTEND:20260423T210000Z
LOCATION:Virtual
URL:https://premiumdemo.demo.uconnectlabs.com/events/2026/04/23/student-nurse-virtual-workshop-creating-a-resume-that-stands-out-in-health-care/
SUMMARY:Student Nurse Virtual Workshop: Creating a Resume That Stands Out in Health Care
DESCRIPTION:Ready to stand out when applying for nursing roles? Join our campus recruitment team for a virtual session on resume best practices for nursing students.Our panel will cover:A.I. tips and important warningsWhat recruiters look for in student nurse resumesCommon resume mistakes to avoidTips to help your application stand outThis session is perfect for students preparing to apply for student nurse or upcoming graduate nurse positions.💻 Virtual: Join us from anywhere!  Can’t attend live?  Registrants can still receive the recording following the session.Register Here: https://app.brazenconnect.com/a/BJC_Careers/e/LrjLj 
END:VEVENT
END:VCALENDAR