BEGIN:VCALENDAR
VERSION:2.0
PRODID:-//uConnectLabs//NONSGML v1.0//EN
BEGIN:VEVENT
UID:c1f0975f5d4dd88cd1a01886275de322@uconnectlabs.com
DTSTAMP:20260420T152238Z
DTSTART:20260423T194500Z
DTEND:20260423T200000Z
LOCATION:Virtual
URL:https://premiumdemo.demo.uconnectlabs.com/events/2026/04/23/mock-phone-screen-entry-level-role-practice-2/
SUMMARY:Mock Phone Screen Entry-Level Role Practice.
DESCRIPTION:Get real-world practice with a simulated phone screen! This is your first step in the mock interview process, designed to help you feel confident and prepared for a real hiring conversation.During this session, a recruiter will lead a 15-minute mock phone screen, covering:
Your background and experience overview
Behavioral-based questions
Questions specific to entry-level scenarios
Discussion of your interest in entry-level positions
Participants will receive immediate, constructive feedback to help refine your answers, build confidence, and improve your phone presence.Details:

Duration: 15 minutes

Slots per Event: 2

Format: One-on-one with a recruiter

Preparation: Please send your resume and phone number to the contact person on the event
Sign up today to reserve your spot and take your first step toward landing your next entry-level role!
END:VEVENT
END:VCALENDAR