BEGIN:VCALENDAR
VERSION:2.0
PRODID:-//uConnectLabs//NONSGML v1.0//EN
BEGIN:VEVENT
UID:6815e54b58ebce85f3b897fb52bdd8d0@uconnectlabs.com
DTSTAMP:20260420T140236Z
DTSTART:20260423T180000Z
DTEND:20260423T190000Z
LOCATION:Virtual
URL:https://premiumdemo.demo.uconnectlabs.com/events/2026/04/23/low-demand-high-support-a-bcba-trainee-clinical-discussion-about-pda/
SUMMARY:Low Demand, High Support: A BCBA Trainee Clinical Discussion about PDA
DESCRIPTION:Join us for a clinical discussion designed specifically for BCBA trainees, focused on Pathological Demand Avoidance (PDA). In this session, we’ll review and discuss key insights from “Pathological Demand Avoidance in Children and Adolescents: A Systematic Review” (Kildahl et al.), and explore how this research applies to real-world clinical decision-making. Together, we’ll cover: 
How PDA is currently understood in the literature 
Considerations for assessment and case conceptualization 
Practical strategies for supporting individuals with high demand avoidance profiles
How to balance clinical structure with flexibility in care 
This session is built to support your growth as a developing clinician, offering space to ask questions, think critically, and connect research to practice in a supportive, collaborative environment. RSVP here -- we look forward to seeing you there!
END:VEVENT
END:VCALENDAR