BEGIN:VCALENDAR
VERSION:2.0
PRODID:-//uConnectLabs//NONSGML v1.0//EN
BEGIN:VEVENT
UID:cfb632911c2debf82c22ecaa0eea0282@uconnectlabs.com
DTSTAMP:20260420T150444Z
DTSTART:20260423T210000Z
DTEND:20260423T220000Z
LOCATION:Virtual
URL:https://premiumdemo.demo.uconnectlabs.com/events/2026/04/23/explore-remote-student-teaching-with-stride-inc-3/
SUMMARY:Explore Remote Student Teaching with Stride Inc!
DESCRIPTION:Did you know you can complete your student teaching requirements remotely with Stride Inc? We offer placements to student teachers and counselors at our online K12-powered schools across the country. Join our webinar to learn about the program, and how you can start your journey to completing your requirements from the comfort of home! 
END:VEVENT
END:VCALENDAR