BEGIN:VCALENDAR
VERSION:2.0
PRODID:-//uConnectLabs//NONSGML v1.0//EN
BEGIN:VEVENT
UID:fe5e93d949438b60334cc2059f2cc5e5@uconnectlabs.com
DTSTAMP:20260420T140314Z
DTSTART:20260423T180000Z
DTEND:20260423T182000Z
LOCATION:Virtual
URL:https://premiumdemo.demo.uconnectlabs.com/events/2026/04/23/aria-care-partners-dental-career-info-and-interviews-2/
SUMMARY:Aria Care Partners Dental Career Info and Interviews
DESCRIPTION:Join us for an inside look at Dentist careers with Aria Care Partners, a national leader in providing dental care for 20+ years throughout 26 states.You'll have an opportunity to ask questions and sign up for a virtual interview.Hiring new grads and alumni now!Sign up for your interview slot now:https://app.joinhandshake.com/schedules/recurring/78780/public_invite?scheduling_type=mss If you're unable to attend this event, please reach out to one of our recruiters below:Grace RamphalPhone: (913) 608-2473 Call or TextEmail: gramphal@aria.care Gabe CaldasPhone: (913) 558-2169 Call or TextEmail: gcaldas@aria.care 
END:VEVENT
END:VCALENDAR