BEGIN:VCALENDAR
VERSION:2.0
PRODID:-//uConnectLabs//NONSGML v1.0//EN
BEGIN:VEVENT
UID:54a4b4b1040531da2de42c37abd9c63b@uconnectlabs.com
DTSTAMP:20260420T140306Z
DTSTART:20260422T160000Z
DTEND:20260422T164500Z
LOCATION:Virtual
URL:https://premiumdemo.demo.uconnectlabs.com/events/2026/04/22/learn-business-development-sales-public-speaking-skills-with-molo-solutions-3/
SUMMARY:Learn Business Development Sales &amp; Public Speaking Skills With MoLo Solutions!
DESCRIPTION:Join us virtually to learn how you can enhance your skills in business development sales and public speaking! You will hear directly from our Senior Manager of Business Development, Joe Kleinsmith. This informational session will also allow you to learn more about MoLo Solutions' culture, the Third-Party Logistics industry, as well as our full-time and internship opportunities. RSVP today to attend our event Learn Business Development Sales &amp; Public Speaking Skills With MoLo Solutions!
END:VEVENT
END:VCALENDAR