BEGIN:VCALENDAR
VERSION:2.0
PRODID:-//uConnectLabs//NONSGML v1.0//EN
BEGIN:VEVENT
UID:ea48ed6614ff48a5c3699c273a33f565@uconnectlabs.com
DTSTAMP:20260420T140154Z
DTSTART:20260422T213000Z
DTEND:20260422T223000Z
LOCATION:Virtual
URL:https://premiumdemo.demo.uconnectlabs.com/events/2026/04/22/interviewing-best-practices-employer-panel/
SUMMARY:Interviewing Best Practices--Employer Panel
DESCRIPTION:Employer panelists discuss interviewing best practices and what helps candidates rise to the top. 
END:VEVENT
END:VCALENDAR