BEGIN:VCALENDAR
VERSION:2.0
PRODID:-//uConnectLabs//NONSGML v1.0//EN
BEGIN:VEVENT
UID:0ae7232809bb96a2434249fd7357a132@uconnectlabs.com
DTSTAMP:20260420T140151Z
DTSTART:20260422T180000Z
DTEND:20260422T190000Z
LOCATION:Virtual
URL:https://premiumdemo.demo.uconnectlabs.com/events/2026/04/22/explore-remote-internships-with-stride-inc/
SUMMARY:Explore Remote Internships with Stride Inc!
DESCRIPTION:Learn about remote internship opportunities at Stride Inc! 
END:VEVENT
END:VCALENDAR