BEGIN:VCALENDAR
VERSION:2.0
PRODID:-//uConnectLabs//NONSGML v1.0//EN
BEGIN:VEVENT
UID:a9da35f909a060b4baa539d61fa5ae07@uconnectlabs.com
DTSTAMP:20260420T140232Z
DTSTART:20260422T210000Z
DTEND:20260422T220000Z
LOCATION:Virtual
URL:https://premiumdemo.demo.uconnectlabs.com/events/2026/04/22/accelerating-your-career-alphasights-2027-internship-opportunities/
SUMMARY:Accelerating Your Career: AlphaSights 2027 Internship Opportunities
DESCRIPTION:In addition to RSVP'ing on Handshake, please join our Early Talent Community. Those in our Early Talent Community will receive a Zoom registration link the week of the event. Please email katie.goddard@alphasights.com with questions.Join our webinar to learn more about AlphaSights and our internship opportunities, with insights from team members, from VP to Associate, who started their careers here as interns. Attendees will receive early access to our Summer 2027 Internship application (for 2028 grads). Founded in 2008, AlphaSights is the global leader in knowledge on-demand. We connect investors and business leaders with the knowledge they need to succeed. Working from nine cities globally, our 1500+ colleagues provide round-the-clock coverage to the world's top investment funds, consultancies, and businesses. Learn more about us at alphasights.com. 
END:VEVENT
END:VCALENDAR