BEGIN:VCALENDAR
VERSION:2.0
PRODID:-//uConnectLabs//NONSGML v1.0//EN
BEGIN:VEVENT
UID:b4605db2fa807efea346859655caaf4c@uconnectlabs.com
DTSTAMP:20260420T140313Z
DTSTART:20260421T210000Z
DTEND:20260421T213000Z
LOCATION:Virtual
URL:https://premiumdemo.demo.uconnectlabs.com/events/2026/04/21/what-you-need-to-know-to-land-a-summer-internship-at-morgan-stanley/
SUMMARY:What You Need to Know to Land a Summer Internship at Morgan Stanley
DESCRIPTION:Are you a first-year student and curious about Morgan Stanley's internship opportunities? ‌Join us on Tuesday, April 21 from 5:00 - 5:30 PM ET.‌During this session, we will walk through the Firm's typical Campus Recruiting cycle for our Revenue businesses. This will include relevant timelines, the types of events and activities to expect through Fall 2026, and what steps you can take to prepare between now and then. ‌What to expect: 
High-level Morgan Stanley overview
Campus Recruiting timelines, process, and eligibility for our 2028 Summer Analyst Programs
 This session is intended for first-year students of all majors, backgrounds, and interests with expected graduation dates between Fall 2028 and Spring 2029.  
END:VEVENT
END:VCALENDAR