BEGIN:VCALENDAR
VERSION:2.0
PRODID:-//uConnectLabs//NONSGML v1.0//EN
BEGIN:VEVENT
UID:30c972c494b59160acc76adf51ac630c@uconnectlabs.com
DTSTAMP:20260420T140157Z
DTSTART:20260421T223000Z
DTEND:20260421T233000Z
LOCATION:Virtual
URL:https://premiumdemo.demo.uconnectlabs.com/events/2026/04/21/nailing-your-interview-in-2026-2/
SUMMARY:Nailing Your Interview in 2026
DESCRIPTION:Register to Attend Here: https://cityteachingalliance-org.zoom.us/meeting/register/6U-46NPNSaifrEUKTIyo2g The job market has changed—are your interview skills keeping up? Join Recruitment Manager, Andrea Devora (SHRM-CP), for a practical virtual workshop on how to stand out in today’s competitive hiring process. Learn how to research organizations effectively, craft a compelling personal pitch, answer common interview questions with confidence, and avoid the top mistakes candidates make. You’ll walk away with actionable interview strategies, helpful resources, and the opportunity to connect with the City Teaching Alliance team. Perfect for undergraduate students and recent graduates preparing to apply for internships, fellowships, or full-time roles in 2026. 
END:VEVENT
END:VCALENDAR