BEGIN:VCALENDAR
VERSION:2.0
PRODID:-//uConnectLabs//NONSGML v1.0//EN
BEGIN:VEVENT
UID:f56fdcc8a5e409fbf1e36289e295e6f9@uconnectlabs.com
DTSTAMP:20260420T140158Z
DTSTART:20260421T220000Z
DTEND:20260421T230000Z
LOCATION:Virtual
URL:https://premiumdemo.demo.uconnectlabs.com/events/2026/04/21/kickstart-your-career-in-virtual-teaching/
SUMMARY:Kickstart Your Career in Virtual Teaching
DESCRIPTION:Starting your career in education? Ready to ditch the commute at an online K12-powered virtual public/privte/charter in your state? Join us and discover how you can find your perfect career match in online education. 
END:VEVENT
END:VCALENDAR