BEGIN:VCALENDAR
VERSION:2.0
PRODID:-//uConnectLabs//NONSGML v1.0//EN
BEGIN:VEVENT
UID:c7834a40224685edc14e1807f5dba73d@uconnectlabs.com
DTSTAMP:20260420T123813Z
DTSTART:20260421T140000Z
DTEND:20260421T150000Z
LOCATION:Virtual
URL:https://premiumdemo.demo.uconnectlabs.com/events/2026/04/21/baltimore-city-public-schools-special-education-teacher-opportunities-webinar-2/
SUMMARY:Baltimore City Public Schools - Special Education Teacher Opportunities Webinar 2
DESCRIPTION:As you navigate your career opportunities and job searches, we hope that you keep opportunities with Baltimore City Public Schools in mind. Baltimore City Public Schools’ is the largest urban school district in the state of Maryland and the 37th largest school district in the country.  We are seeking passionate, excited, and innovative professionals to match the next generation of creative world class thinkers. If you are interested in a Special Education teaching position, we invite you to attend our virtual webinar on April 21, 2026 at 10:00am - 11:00am (eastern standard time) to learn more about the job opportunities that Baltimore City Public School has to offer.  You can click the Microsoft Teams Link, and join the virtual event. If you do not have Microsoft Teams you can click this highlighted link, (Microsoft Teams) to assist you to download the application. Although we strongly encourage you to attend a virtual session before applying, we have provided the application link for you to begin setting up your account and get started with the application process. Please visit some of the key links below that will assist you with the application process and information on the city of Baltimore.Key Links:Baltimore City Schools Homepage:  https://www.baltimorecityschools.org/Baltimore City Public Schools Application: https://www.baltimorecityschools.org/page/jobsTeaching in Baltimore: https://www.baltimorecityschools.org/page/teach-baltimoreLive Baltimore: https://livebaltimore.com/Thank you for your interest in teaching in Baltimore City Schools. Should you have any questions, do not hesitate to contact myself or my team at joincityschools@bcps.k12.md.us. Recruitment TeamOffice of Human Capital RoomBaltimore City Public Schools200 E. North AvenueBaltimore, Maryland 21202
END:VEVENT
END:VCALENDAR