BEGIN:VCALENDAR
VERSION:2.0
PRODID:-//uConnectLabs//NONSGML v1.0//EN
BEGIN:VEVENT
UID:4c6eb657f5ca310013aea2a3ba498850@uconnectlabs.com
DTSTAMP:20260420T125553Z
DTSTART:20260420T150000Z
DTEND:20260420T160000Z
LOCATION:Virtual
URL:https://premiumdemo.demo.uconnectlabs.com/events/2026/04/20/usss-virtual-recruitment-session-washington-field-office/
SUMMARY:USSS Virtual Recruitment Session (Washington Field Office)
DESCRIPTION:Title:USSS Virtual Recruitment Session – Special Agents &amp; Uniformed Division Officers (Incentives Available)Description:Are you seeking a rewarding career with opportunities for teamwork, growth, and public service? The United States Secret Service (USSS) is actively hiring for:

Special Agents (Possible incentives up to $40,000)

Uniformed Division Officers (Possible incentives up to $75,000)
Join our Virtual Recruitment Outreach Session on April 20, 2026, to learn more about these exciting roles, our competitive benefits, and how you can make a difference as part of one of the nation’s most elite law enforcement agencies.Session Highlights:
Overview of USSS Special Agent and Uniformed Division Officer positions
Q&amp;A with recruiters
Information on compensation, benefits, and incentives
Guidance on the application process
Register here: [USSS Outreach Virtual Session] https://forms.office.com/g/zynaACUdAc?origin=lprLink Outreach Virtual Session)Explore current openings at USSS Careers on USAJobs.We welcome applicants from all majors and backgrounds. Don’t miss this opportunity to learn more and take the next step in your career!
END:VEVENT
END:VCALENDAR